BEGIN:VCALENDAR
VERSION:2.0
PRODID:-//Textile World - ECPv5.2.0//NONSGML v1.0//EN
CALSCALE:GREGORIAN
METHOD:PUBLISH
X-WR-CALNAME:Textile World
X-ORIGINAL-URL:https://www.textileworld.com
X-WR-CALDESC:Events for Textile World
BEGIN:VTIMEZONE
TZID:America/New_York
BEGIN:DAYLIGHT
TZOFFSETFROM:-0500
TZOFFSETTO:-0400
TZNAME:EDT
DTSTART:20230312T070000
END:DAYLIGHT
BEGIN:STANDARD
TZOFFSETFROM:-0400
TZOFFSETTO:-0500
TZNAME:EST
DTSTART:20231105T060000
END:STANDARD
END:VTIMEZONE
BEGIN:VEVENT
DTSTART;TZID=America/New_York:20230510T083000
DTEND;TZID=America/New_York:20230510T163000
DTSTAMP:20260423T054518
CREATED:20221018T182604Z
LAST-MODIFIED:20221018T182604Z
UID:80639-1683707400-1683736200@www.textileworld.com
SUMMARY:USTER Quality Testing: Spectrogram Diagnostics
DESCRIPTION:Presented by Raul Thomas\, Uster Technologies \nThe workshop covers how to manually calculate the component deliveries of machine gear plans to determine the causes of the periodic defects on the spectrogram. For workshop exercises\, participants should bring calculators — a smart phone will suffice — as well as machine gear plans from their plants. If participants bring gear plans from their plants\, please make sure that all change pulleys and gear sizes are known. The workshop will cover manual calculations only. The Evenness Interpretation class is a strongly recommended prerequisite for this workshop. A basic knowledge of textile machinery concepts is recommended. \nTo register\, contact Monét Freeman\, freeman.monet@gaston.edu\, 704-825-6305.
URL:https://www.textileworld.com/event/uster-quality-testing-spectrogram-diagnostics-2/
LOCATION:Gaston College\, Textile Technology Center\, Kimbrell Campus\, 7220 Wilkinson Blvd\, Belmont\, NC\, 28012\, United States
END:VEVENT
END:VCALENDAR