BEGIN:VCALENDAR
VERSION:2.0
PRODID:-//Textile World - ECPv5.2.0//NONSGML v1.0//EN
CALSCALE:GREGORIAN
METHOD:PUBLISH
X-WR-CALNAME:Textile World
X-ORIGINAL-URL:https://www.textileworld.com
X-WR-CALDESC:Events for Textile World
BEGIN:VTIMEZONE
TZID:America/New_York
BEGIN:DAYLIGHT
TZOFFSETFROM:-0500
TZOFFSETTO:-0400
TZNAME:EDT
DTSTART:20190310T070000
END:DAYLIGHT
BEGIN:STANDARD
TZOFFSETFROM:-0400
TZOFFSETTO:-0500
TZNAME:EST
DTSTART:20191103T060000
END:STANDARD
END:VTIMEZONE
BEGIN:VEVENT
DTSTART;VALUE=DATE:20190425
DTEND;VALUE=DATE:20190427
DTSTAMP:20260425T063135
CREATED:20181004T192626Z
LAST-MODIFIED:20181007T010015Z
UID:44244-1556150400-1556323199@www.textileworld.com
SUMMARY:Synthetic Yarn and Fabric Association (SYFA) Spring 2019 Conference
DESCRIPTION:
URL:https://www.textileworld.com/event/synthetic-yarn-and-fabric-association-spring-2019-conference/
LOCATION:Sheraton Charlotte Airport Hotel\, 3315 Scott Futrell Dr\, Charlotte\, NC\, 28208\, United States
END:VEVENT
END:VCALENDAR