BEGIN:VCALENDAR
VERSION:2.0
PRODID:-//Textile World - ECPv5.2.0//NONSGML v1.0//EN
CALSCALE:GREGORIAN
METHOD:PUBLISH
X-WR-CALNAME:Textile World
X-ORIGINAL-URL:https://www.textileworld.com
X-WR-CALDESC:Events for Textile World
BEGIN:VTIMEZONE
TZID:America/New_York
BEGIN:DAYLIGHT
TZOFFSETFROM:-0500
TZOFFSETTO:-0400
TZNAME:EDT
DTSTART:20190310T070000
END:DAYLIGHT
BEGIN:STANDARD
TZOFFSETFROM:-0400
TZOFFSETTO:-0500
TZNAME:EST
DTSTART:20191103T060000
END:STANDARD
END:VTIMEZONE
BEGIN:VEVENT
DTSTART;TZID=America/New_York:20190916T180000
DTEND;TZID=America/New_York:20190916T200000
DTSTAMP:20260424T074216
CREATED:20190820T011459Z
LAST-MODIFIED:20190820T011459Z
UID:52930-1568656800-1568664000@www.textileworld.com
SUMMARY:SPESA After Hours NYC
DESCRIPTION:Join us for a SPESA After Hours Happy Hour in New York City! We will gather over good food\, great drinks\, and networking with industry professionals at Bo’s Kitchen & Bar Room\, a New-Orleans-inspired restaurant in Flatiron\, offering delicious tapas and craft cocktails. \nBoth SPESA members and nonmembers are encouraged to join. Free event!
URL:https://www.textileworld.com/event/spesa-after-hours-nyc/
LOCATION:Bo’s Kitchen & Bar\, 6 W 24th St\, New York\, 10010\, United States
END:VEVENT
END:VCALENDAR