BEGIN:VCALENDAR
VERSION:2.0
PRODID:-//Textile World - ECPv5.2.0//NONSGML v1.0//EN
CALSCALE:GREGORIAN
METHOD:PUBLISH
X-WR-CALNAME:Textile World
X-ORIGINAL-URL:https://www.textileworld.com
X-WR-CALDESC:Events for Textile World
BEGIN:VTIMEZONE
TZID:America/New_York
BEGIN:DAYLIGHT
TZOFFSETFROM:-0500
TZOFFSETTO:-0400
TZNAME:EDT
DTSTART:20200308T070000
END:DAYLIGHT
BEGIN:STANDARD
TZOFFSETFROM:-0400
TZOFFSETTO:-0500
TZNAME:EST
DTSTART:20201101T060000
END:STANDARD
END:VTIMEZONE
BEGIN:VEVENT
DTSTART;TZID=America/New_York:20201007T153000
DTEND;TZID=America/New_York:20201007T163000
DTSTAMP:20260424T105317
CREATED:20201007T023243Z
LAST-MODIFIED:20201007T023243Z
UID:62507-1602084600-1602088200@www.textileworld.com
SUMMARY:Southern Textile Association (STA) Northern and Southern Divisions Joint Fall Meeting
DESCRIPTION:“Washington Update: An Industry on the Front Lines\,” presented by Kim Glas\, president & CEO\, National Council of Textiles Organizations (NCTO) \nThe Southern Textile Association is pleased to announce its plans for the Joint Fall Meeting of the Northern & Southern Divisions being held virtually Wednesday\, October 7\, 2020 from 3:30-4:30 p.m.  Following the meeting plan to stay for a little longer to network.
URL:https://www.textileworld.com/event/southern-textile-association-sta-northern-and-southern-divisions-joint-fall-meeting/
END:VEVENT
END:VCALENDAR