BEGIN:VCALENDAR
VERSION:2.0
PRODID:-//Textile World - ECPv5.2.0//NONSGML v1.0//EN
CALSCALE:GREGORIAN
METHOD:PUBLISH
X-WR-CALNAME:Textile World
X-ORIGINAL-URL:https://www.textileworld.com
X-WR-CALDESC:Events for Textile World
BEGIN:VTIMEZONE
TZID:Europe/Berlin
BEGIN:DAYLIGHT
TZOFFSETFROM:+0100
TZOFFSETTO:+0200
TZNAME:CEST
DTSTART:20210328T010000
END:DAYLIGHT
BEGIN:STANDARD
TZOFFSETFROM:+0200
TZOFFSETTO:+0100
TZNAME:CET
DTSTART:20211031T010000
END:STANDARD
END:VTIMEZONE
BEGIN:VEVENT
DTSTART;TZID=Europe/Berlin:20210317T140000
DTEND;TZID=Europe/Berlin:20210317T144500
DTSTAMP:20260422T092217
CREATED:20210223T175040Z
LAST-MODIFIED:20210223T175040Z
UID:65985-1615989600-1615992300@www.textileworld.com
SUMMARY:Oerlikon Manmade Fibers Webinar: Heavy-Denier Applications - WINGS HD And eAFK Big V Complete Your Home Textiles Portfolio
DESCRIPTION:The carpet yarn portfolio is complemented by a POY-DTY solution for heavy-denier applications: using the WINGS HD and the eAFK Big V\, carpet yarn manufacturers can efficiently and economically cater to increasing demand for heavy-denier DTY yarns. The technology is presented by Area Sales Director Oliver Lemke.
URL:https://www.textileworld.com/event/oerlikon-manmade-fibers-webinar-heavy-denier-applications-wings-hd-and-eafk-big-v-complete-your-home-textiles-portfolio/
LOCATION:Online
END:VEVENT
END:VCALENDAR