BEGIN:VCALENDAR
VERSION:2.0
PRODID:-//Textile World - ECPv5.2.0//NONSGML v1.0//EN
CALSCALE:GREGORIAN
METHOD:PUBLISH
X-WR-CALNAME:Textile World
X-ORIGINAL-URL:https://www.textileworld.com
X-WR-CALDESC:Events for Textile World
BEGIN:VTIMEZONE
TZID:America/New_York
BEGIN:DAYLIGHT
TZOFFSETFROM:-0500
TZOFFSETTO:-0400
TZNAME:EDT
DTSTART:20190310T070000
END:DAYLIGHT
BEGIN:STANDARD
TZOFFSETFROM:-0400
TZOFFSETTO:-0500
TZNAME:EST
DTSTART:20191103T060000
END:STANDARD
END:VTIMEZONE
BEGIN:VEVENT
DTSTART;VALUE=DATE:20190910
DTEND;VALUE=DATE:20190912
DTSTAMP:20260420T192539
CREATED:20190829T135231Z
LAST-MODIFIED:20190829T135231Z
UID:53106-1568073600-1568246399@www.textileworld.com
SUMMARY:IPC E-Textiles 2019
DESCRIPTION:IPC E-Textiles 2019 will be a technical education workshop for innovators\, technologists and brands to learn about the latest innovations\, designs and manufacturing concepts as well as to collaborate on solutions and identify partners. IPC E-Textiles 2019 will provide a venue for active participation during technical presentations and networking opportunities and exhibits showcasing latest technologies.
URL:https://www.textileworld.com/event/ipc-e-textiles-2019/
LOCATION:Center for Functional Fabrics\, Drexel University\, 3101 Market Street\, Philadelphia\, PA\, 19104\, United States
END:VEVENT
END:VCALENDAR