BEGIN:VCALENDAR
VERSION:2.0
PRODID:-//Textile World - ECPv5.2.0//NONSGML v1.0//EN
CALSCALE:GREGORIAN
METHOD:PUBLISH
X-WR-CALNAME:Textile World
X-ORIGINAL-URL:https://www.textileworld.com
X-WR-CALDESC:Events for Textile World
BEGIN:VTIMEZONE
TZID:America/New_York
BEGIN:DAYLIGHT
TZOFFSETFROM:-0500
TZOFFSETTO:-0400
TZNAME:EDT
DTSTART:20210314T070000
END:DAYLIGHT
BEGIN:STANDARD
TZOFFSETFROM:-0400
TZOFFSETTO:-0500
TZNAME:EST
DTSTART:20211107T060000
END:STANDARD
END:VTIMEZONE
BEGIN:VEVENT
DTSTART;TZID=America/New_York:20211117T080000
DTEND;TZID=America/New_York:20211118T170000
DTSTAMP:20260421T152217
CREATED:20210928T155459Z
LAST-MODIFIED:20210928T155459Z
UID:71573-1637136000-1637254800@www.textileworld.com
SUMMARY:Functional Fabric Fair
DESCRIPTION:
URL:https://www.textileworld.com/event/functional-fabric-fair/
LOCATION:Oregon Convention Center\, 777 NE Martin Luther King\, Jr. Blvd\, Portland\, OR\, 97232\, United States
END:VEVENT
END:VCALENDAR