BEGIN:VCALENDAR
VERSION:2.0
PRODID:-//Textile World - ECPv5.2.0//NONSGML v1.0//EN
CALSCALE:GREGORIAN
METHOD:PUBLISH
X-WR-CALNAME:Textile World
X-ORIGINAL-URL:https://www.textileworld.com
X-WR-CALDESC:Events for Textile World
BEGIN:VTIMEZONE
TZID:America/New_York
BEGIN:DAYLIGHT
TZOFFSETFROM:-0500
TZOFFSETTO:-0400
TZNAME:EDT
DTSTART:20190310T070000
END:DAYLIGHT
BEGIN:STANDARD
TZOFFSETFROM:-0400
TZOFFSETTO:-0500
TZNAME:EST
DTSTART:20191103T060000
END:STANDARD
END:VTIMEZONE
BEGIN:VEVENT
DTSTART;VALUE=DATE:20190122
DTEND;VALUE=DATE:20190125
DTSTAMP:20260424T121842
CREATED:20181003T025111Z
LAST-MODIFIED:20181003T025111Z
UID:44171-1548115200-1548374399@www.textileworld.com
SUMMARY:Colombiatex de las Américas 2019
DESCRIPTION:Colombiatex de las Américas offers textiles\, specialized solutions\, supplies\, chemicals and machinery\, and is a leader in Latin America. Positioned as the most important textile business center in the region\, the fair has a lot to offer making it an unmissable event.
URL:https://www.textileworld.com/event/colombiatex-de-las-americas-2019/
LOCATION:Plaza Mayor Medellín\, Medellin\, Colombia
END:VEVENT
END:VCALENDAR