BEGIN:VCALENDAR
VERSION:2.0
PRODID:-//Textile World - ECPv5.2.0//NONSGML v1.0//EN
CALSCALE:GREGORIAN
METHOD:PUBLISH
X-WR-CALNAME:Textile World
X-ORIGINAL-URL:https://www.textileworld.com
X-WR-CALDESC:Events for Textile World
BEGIN:VTIMEZONE
TZID:America/New_York
BEGIN:DAYLIGHT
TZOFFSETFROM:-0500
TZOFFSETTO:-0400
TZNAME:EDT
DTSTART:20250309T070000
END:DAYLIGHT
BEGIN:STANDARD
TZOFFSETFROM:-0400
TZOFFSETTO:-0500
TZNAME:EST
DTSTART:20251102T060000
END:STANDARD
END:VTIMEZONE
BEGIN:VEVENT
DTSTART;VALUE=DATE:20251120
DTEND;VALUE=DATE:20251121
DTSTAMP:20260424T215953
CREATED:20250904T122405Z
LAST-MODIFIED:20250904T122405Z
UID:106765-1763596800-1763683199@www.textileworld.com
SUMMARY:American Apparel & Footwear Association (AAFA) Western Hemisphere Apparel & Footwear Compliance Conference
DESCRIPTION:Apparel and footwear factory executives\, directors\, managers\, and their leadership teams come together in Guatemala to engage with the American Apparel & Footwear Association (AAFA) for comprehensive compliance presentations and discussions. This conference offers a vital platform for factories and their U.S. partners to strengthen relationships\, gain insights into U.S. regulatory requirements\, and align with brand expectations. As compliance remains a top priority for U.S. brands and AAFA alike\, this event will delve into key areas of compliance\, addressing current challenges and exploring strategies for enhancing operations to meet and exceed compliance standards.
URL:https://www.textileworld.com/event/american-apparel-footwear-association-aafa-western-hemisphere-apparel-footwear-compliance-conference/
LOCATION:InterContinental Real Guatemala\, 14 Calle 2-51 Zona 10\, Guatemala City\, 01010\, Guatemala
END:VEVENT
END:VCALENDAR