BEGIN:VCALENDAR
VERSION:2.0
PRODID:-//Textile World - ECPv5.2.0//NONSGML v1.0//EN
CALSCALE:GREGORIAN
METHOD:PUBLISH
X-WR-CALNAME:Textile World
X-ORIGINAL-URL:https://www.textileworld.com
X-WR-CALDESC:Events for Textile World
BEGIN:VTIMEZONE
TZID:America/New_York
BEGIN:DAYLIGHT
TZOFFSETFROM:-0500
TZOFFSETTO:-0400
TZNAME:EDT
DTSTART:20240310T070000
END:DAYLIGHT
BEGIN:STANDARD
TZOFFSETFROM:-0400
TZOFFSETTO:-0500
TZNAME:EST
DTSTART:20241103T060000
END:STANDARD
END:VTIMEZONE
BEGIN:VEVENT
DTSTART;VALUE=DATE:20240205
DTEND;VALUE=DATE:20240208
DTSTAMP:20260419T155914
CREATED:20231129T010805Z
LAST-MODIFIED:20231129T010858Z
UID:90458-1707091200-1707350399@www.textileworld.com
SUMMARY:Texworld Evolution Paris — comprising Texworld\,Texworld Denim\, Apparel Sourcing\, Avantex and Leatherworld
DESCRIPTION:
URL:https://www.textileworld.com/event/texworld-evolution-paris-comprising-texworldtexworld-denim-apparel-sourcing-avantex-and-leatherworld/
LOCATION:Paris Porte de Versailles\, 1 Pl. de la Prte de Versailles\, Paris\, 75015\, France
END:VEVENT
END:VCALENDAR