BEGIN:VCALENDAR
VERSION:2.0
PRODID:-//Textile World - ECPv5.2.0//NONSGML v1.0//EN
CALSCALE:GREGORIAN
METHOD:PUBLISH
X-WR-CALNAME:Textile World
X-ORIGINAL-URL:https://www.textileworld.com
X-WR-CALDESC:Events for Textile World
BEGIN:VTIMEZONE
TZID:America/New_York
BEGIN:DAYLIGHT
TZOFFSETFROM:-0500
TZOFFSETTO:-0400
TZNAME:EDT
DTSTART:20210314T070000
END:DAYLIGHT
BEGIN:STANDARD
TZOFFSETFROM:-0400
TZOFFSETTO:-0500
TZNAME:EST
DTSTART:20211107T060000
END:STANDARD
END:VTIMEZONE
BEGIN:VEVENT
DTSTART;TZID=America/New_York:20211123T080000
DTEND;TZID=America/New_York:20211126T170000
DTSTAMP:20260421T164850
CREATED:20210928T155821Z
LAST-MODIFIED:20210928T155821Z
UID:71577-1637654400-1637946000@www.textileworld.com
SUMMARY:ShanghaiTex 2021
DESCRIPTION:Along with the changing business modes in the post-pandemic era\, the 20th International Exhibition on Textile Industry (ShanghaiTex 2021)\, is upgraded by adopting the hybrid mode for its first time\, combining Online Exhibition (www.ShanghaiTex.cn) and Physical Events in Pullman Shanghai Skyway Hotel. Online Exhibitions include online procurement\, new technology releases\, online exhibitor interviews\, business appointment\, business matching\, etc.\, allowing industry players to stay closely connected via internet despite the time and geographical constraints. Meanwhile\, Offline Exhibition Zones gather experts from the industry. Through international conferences\, forums\, business matching activities\, featured theme zones and other concurrent events\, the development and interactions among different sectors of the entire industry chain will be discussed and explored.
URL:https://www.textileworld.com/event/shanghaitex-2021/
LOCATION:Pullman Shanghai Skyway Hotel\, Shanghai\, China
END:VEVENT
END:VCALENDAR