BEGIN:VCALENDAR
VERSION:2.0
PRODID:-//Textile World - ECPv5.2.0//NONSGML v1.0//EN
CALSCALE:GREGORIAN
METHOD:PUBLISH
X-WR-CALNAME:Textile World
X-ORIGINAL-URL:https://www.textileworld.com
X-WR-CALDESC:Events for Textile World
BEGIN:VTIMEZONE
TZID:America/New_York
BEGIN:DAYLIGHT
TZOFFSETFROM:-0500
TZOFFSETTO:-0400
TZNAME:EDT
DTSTART:20230312T070000
END:DAYLIGHT
BEGIN:STANDARD
TZOFFSETFROM:-0400
TZOFFSETTO:-0500
TZNAME:EST
DTSTART:20231105T060000
END:STANDARD
END:VTIMEZONE
BEGIN:VEVENT
DTSTART;VALUE=DATE:20230430
DTEND;VALUE=DATE:20230503
DTSTAMP:20260424T134916
CREATED:20230207T170624Z
LAST-MODIFIED:20230207T170624Z
UID:82776-1682812800-1683071999@www.textileworld.com
SUMMARY:Southern Textile Research Conference (STRC) 2023
DESCRIPTION:The theme for the 2023 STRC will be: Approaches for Navigating a Changing Textile Supply Chain \nThe textile supply chain is changing rapidly\, being driven by numerous forces including Inflation\, Sustainability\, Product Safety\, Certifications (Blue Sign\, ZDHC)\, Traceability\, and Brand Marketing claims. The 2023 STRC will address many of these issues with an array of industry experts as speakers.
URL:https://www.textileworld.com/event/southern-textile-research-conference-strc-2023/
LOCATION:Hilton Myrtle Beach Resort\, 10000 Beach Club Dr\, Myrtle Beach\, 29572\, United States
END:VEVENT
END:VCALENDAR